BEGIN:VCALENDAR
VERSION:2.0
PRODID:-//Nourishing Life - ECPv6.15.18//NONSGML v1.0//EN
CALSCALE:GREGORIAN
METHOD:PUBLISH
X-WR-CALNAME:Nourishing Life
X-ORIGINAL-URL:https://nourishinglife.com
X-WR-CALDESC:Events for Nourishing Life
REFRESH-INTERVAL;VALUE=DURATION:PT1H
X-Robots-Tag:noindex
X-PUBLISHED-TTL:PT1H
BEGIN:VTIMEZONE
TZID:America/New_York
BEGIN:DAYLIGHT
TZOFFSETFROM:-0500
TZOFFSETTO:-0400
TZNAME:EDT
DTSTART:20240310T070000
END:DAYLIGHT
BEGIN:STANDARD
TZOFFSETFROM:-0400
TZOFFSETTO:-0500
TZNAME:EST
DTSTART:20241103T060000
END:STANDARD
BEGIN:DAYLIGHT
TZOFFSETFROM:-0500
TZOFFSETTO:-0400
TZNAME:EDT
DTSTART:20250309T070000
END:DAYLIGHT
BEGIN:STANDARD
TZOFFSETFROM:-0400
TZOFFSETTO:-0500
TZNAME:EST
DTSTART:20251102T060000
END:STANDARD
BEGIN:DAYLIGHT
TZOFFSETFROM:-0500
TZOFFSETTO:-0400
TZNAME:EDT
DTSTART:20260308T070000
END:DAYLIGHT
BEGIN:STANDARD
TZOFFSETFROM:-0400
TZOFFSETTO:-0500
TZNAME:EST
DTSTART:20261101T060000
END:STANDARD
END:VTIMEZONE
BEGIN:VEVENT
DTSTART;VALUE=DATE:20250924
DTEND;VALUE=DATE:20251006
DTSTAMP:20260422T004439
CREATED:20240826T054834Z
LAST-MODIFIED:20250525T210854Z
UID:3593-1758672000-1759708799@nourishinglife.com
SUMMARY:Rishikesh Women’s Healing Yoga Yatra 2025
DESCRIPTION:Himalayan Yoga YatraFollowing in the Footsteps of Ram Dass			\n				Kainchi – Rishikesh – Vrindavan \nJourney into the heart and soul of the Himalayan region known as Deva Bhumi or the Land of the Gods. Follow in the footsteps of Ram Dass where he first met Neem Karoli Baba and went through his yogic training in the holy places of that region. \nThe Yatra will take place from October 16 – 31\, 2024. This retreat is full - please see our next Himalayan Yoga Yatra offering in March 2025. \n\n\n			\n							Learn More HERE
URL:https://nourishinglife.com/event/rishikesh-womens-healing-yoga-yatra-2025/
LOCATION:Rishikesh\, Rishikesh\, India
CATEGORIES:Retreat,Yoga Yatra
ATTACH;FMTTYPE=image/jpeg:https://nourishinglife.com/wp-content/uploads/2021/06/nourishing-life-healing-dr-saraswati-rishikesh-womens-yatra.jpg
ORGANIZER;CN="Saraswati Robin":MAILTO:info@nourishinglife.com
END:VEVENT
END:VCALENDAR