BEGIN:VCALENDAR
VERSION:2.0
PRODID:-//Nourishing Life - ECPv6.15.18//NONSGML v1.0//EN
CALSCALE:GREGORIAN
METHOD:PUBLISH
X-WR-CALNAME:Nourishing Life
X-ORIGINAL-URL:https://nourishinglife.com
X-WR-CALDESC:Events for Nourishing Life
REFRESH-INTERVAL;VALUE=DURATION:PT1H
X-Robots-Tag:noindex
X-PUBLISHED-TTL:PT1H
BEGIN:VTIMEZONE
TZID:America/New_York
BEGIN:DAYLIGHT
TZOFFSETFROM:-0500
TZOFFSETTO:-0400
TZNAME:EDT
DTSTART:20240310T070000
END:DAYLIGHT
BEGIN:STANDARD
TZOFFSETFROM:-0400
TZOFFSETTO:-0500
TZNAME:EST
DTSTART:20241103T060000
END:STANDARD
BEGIN:DAYLIGHT
TZOFFSETFROM:-0500
TZOFFSETTO:-0400
TZNAME:EDT
DTSTART:20250309T070000
END:DAYLIGHT
BEGIN:STANDARD
TZOFFSETFROM:-0400
TZOFFSETTO:-0500
TZNAME:EST
DTSTART:20251102T060000
END:STANDARD
BEGIN:DAYLIGHT
TZOFFSETFROM:-0500
TZOFFSETTO:-0400
TZNAME:EDT
DTSTART:20260308T070000
END:DAYLIGHT
BEGIN:STANDARD
TZOFFSETFROM:-0400
TZOFFSETTO:-0500
TZNAME:EST
DTSTART:20261101T060000
END:STANDARD
BEGIN:DAYLIGHT
TZOFFSETFROM:-0500
TZOFFSETTO:-0400
TZNAME:EDT
DTSTART:20270314T070000
END:DAYLIGHT
BEGIN:STANDARD
TZOFFSETFROM:-0400
TZOFFSETTO:-0500
TZNAME:EST
DTSTART:20271107T060000
END:STANDARD
END:VTIMEZONE
BEGIN:VEVENT
DTSTART;VALUE=DATE:20260311
DTEND;VALUE=DATE:20260323
DTSTAMP:20260421T135304
CREATED:20250525T205711Z
LAST-MODIFIED:20250806T235248Z
UID:6403-1773187200-1774223999@nourishinglife.com
SUMMARY:Himalayan Yoga Yatra - March 2026
DESCRIPTION:Vrindavan Bhakti YatraFollowing in the Footsteps of Ram Dass			\n				Join us in the land of love and city of temples where the lila of Radha and Krishna still takes place to this day. You can feel the spiritual enthusiasm\, the bhakti\, and the bhav immediately as you arrive into town. We will spend 4 days together in a lovely ashram\, double room occupancy\, in both sadhana and satsang as we explore all there is to see in this special pre-yatra excursion. Vrindavan is one of the great cities in India. Please join! \nThe Vrindavan excursion is an all-inclusive 5-day yatra experience including transportation within India\, food\, chai\, room\, entrance fees\, and all tips and donations. \n\nExperience darshan of Maharaji’s Vrindavan ashram.\nMeditate at the very site of HIS holy Mahasamadhi.\nShare chanting\, yoga\, meditation with satsang.\nRelax & chant in a Yamuna River boat ride.\nDaily temple walks to find your bliss\nPerikrama the holy city\, & bhakti shopping!\nDay trip to Barsana\, Cow Sanctuary\, Radha Kund\n\nMarch 12 -15\, 2025 \n\n\n			\n							Learn More & Register HERE
URL:https://nourishinglife.com/event/himalayan-yoga-yatra-march-2026/
LOCATION:Himalaya\, India
CATEGORIES:Retreat,Yoga Yatra
ATTACH;FMTTYPE=image/png:https://nourishinglife.com/wp-content/uploads/2021/06/HYY-Evergreen.png
ORGANIZER;CN="Dr. Saraswati":MAILTO:info@nourishinglife.com
END:VEVENT
BEGIN:VEVENT
DTSTART;VALUE=DATE:20250924
DTEND;VALUE=DATE:20251006
DTSTAMP:20260421T135304
CREATED:20240826T054834Z
LAST-MODIFIED:20250525T210854Z
UID:3593-1758672000-1759708799@nourishinglife.com
SUMMARY:Rishikesh Women’s Healing Yoga Yatra 2025
DESCRIPTION:Vrindavan Bhakti YatraFollowing in the Footsteps of Ram Dass			\n				Join us in the land of love and city of temples where the lila of Radha and Krishna still takes place to this day. You can feel the spiritual enthusiasm\, the bhakti\, and the bhav immediately as you arrive into town. We will spend 4 days together in a lovely ashram\, double room occupancy\, in both sadhana and satsang as we explore all there is to see in this special pre-yatra excursion. Vrindavan is one of the great cities in India. Please join! \nThe Vrindavan excursion is an all-inclusive 5-day yatra experience including transportation within India\, food\, chai\, room\, entrance fees\, and all tips and donations. \n\nExperience darshan of Maharaji’s Vrindavan ashram.\nMeditate at the very site of HIS holy Mahasamadhi.\nShare chanting\, yoga\, meditation with satsang.\nRelax & chant in a Yamuna River boat ride.\nDaily temple walks to find your bliss\nPerikrama the holy city\, & bhakti shopping!\nDay trip to Barsana\, Cow Sanctuary\, Radha Kund\n\nMarch 12 -15\, 2025 \n\n\n			\n							Learn More & Register HERE
URL:https://nourishinglife.com/event/rishikesh-womens-healing-yoga-yatra-2025/
LOCATION:Rishikesh\, Rishikesh\, India
CATEGORIES:Retreat,Yoga Yatra
ATTACH;FMTTYPE=image/jpeg:https://nourishinglife.com/wp-content/uploads/2021/06/nourishing-life-healing-dr-saraswati-rishikesh-womens-yatra.jpg
ORGANIZER;CN="Saraswati Robin":MAILTO:info@nourishinglife.com
END:VEVENT
BEGIN:VEVENT
DTSTART;VALUE=DATE:20250619
DTEND;VALUE=DATE:20250623
DTSTAMP:20260421T135304
CREATED:20250524T231453Z
LAST-MODIFIED:20250524T234449Z
UID:6375-1750291200-1750636799@nourishinglife.com
SUMMARY:Asheville Satsang Yatra
DESCRIPTION:Vrindavan Bhakti YatraFollowing in the Footsteps of Ram Dass			\n				Join us in the land of love and city of temples where the lila of Radha and Krishna still takes place to this day. You can feel the spiritual enthusiasm\, the bhakti\, and the bhav immediately as you arrive into town. We will spend 4 days together in a lovely ashram\, double room occupancy\, in both sadhana and satsang as we explore all there is to see in this special pre-yatra excursion. Vrindavan is one of the great cities in India. Please join! \nThe Vrindavan excursion is an all-inclusive 5-day yatra experience including transportation within India\, food\, chai\, room\, entrance fees\, and all tips and donations. \n\nExperience darshan of Maharaji’s Vrindavan ashram.\nMeditate at the very site of HIS holy Mahasamadhi.\nShare chanting\, yoga\, meditation with satsang.\nRelax & chant in a Yamuna River boat ride.\nDaily temple walks to find your bliss\nPerikrama the holy city\, & bhakti shopping!\nDay trip to Barsana\, Cow Sanctuary\, Radha Kund\n\nMarch 12 -15\, 2025 \n\n\n			\n							Learn More & Register HERE
URL:https://nourishinglife.com/event/asheville-satsang-yatra/
LOCATION:Hanuman Healing Sanctuary\, 60 Donna Lane\, Alexander\, NC\, 28701\, United States
CATEGORIES:Retreat,Reunion,Satsang,Yoga Yatra
ATTACH;FMTTYPE=image/png:https://nourishinglife.com/wp-content/uploads/2025/04/Copy-of-Copy-of-Copy-of-Asheville.png
ORGANIZER;CN="Dr. Saraswati":MAILTO:info@nourishinglife.com
END:VEVENT
BEGIN:VEVENT
DTSTART;VALUE=DATE:20250319
DTEND;VALUE=DATE:20250401
DTSTAMP:20260421T135304
CREATED:20240831T005527Z
LAST-MODIFIED:20250525T203636Z
UID:4806-1742342400-1743465599@nourishinglife.com
SUMMARY:Himalayan Yoga Yatra 2025
DESCRIPTION:Vrindavan Bhakti YatraFollowing in the Footsteps of Ram Dass			\n				Join us in the land of love and city of temples where the lila of Radha and Krishna still takes place to this day. You can feel the spiritual enthusiasm\, the bhakti\, and the bhav immediately as you arrive into town. We will spend 4 days together in a lovely ashram\, double room occupancy\, in both sadhana and satsang as we explore all there is to see in this special pre-yatra excursion. Vrindavan is one of the great cities in India. Please join! \nThe Vrindavan excursion is an all-inclusive 5-day yatra experience including transportation within India\, food\, chai\, room\, entrance fees\, and all tips and donations. \n\nExperience darshan of Maharaji’s Vrindavan ashram.\nMeditate at the very site of HIS holy Mahasamadhi.\nShare chanting\, yoga\, meditation with satsang.\nRelax & chant in a Yamuna River boat ride.\nDaily temple walks to find your bliss\nPerikrama the holy city\, & bhakti shopping!\nDay trip to Barsana\, Cow Sanctuary\, Radha Kund\n\nMarch 12 -15\, 2025 \n\n\n			\n							Learn More & Register HERE
URL:https://nourishinglife.com/event/himalayan-yoga-yatra-2025/
LOCATION:Himalaya\, India
CATEGORIES:Retreat,Yoga Yatra
ATTACH;FMTTYPE=image/png:https://nourishinglife.com/wp-content/uploads/2021/06/HYY-Evergreen.png
ORGANIZER;CN="Saraswati Robin":MAILTO:info@nourishinglife.com
END:VEVENT
BEGIN:VEVENT
DTSTART;VALUE=DATE:20250312
DTEND;VALUE=DATE:20250316
DTSTAMP:20260421T135304
CREATED:20240826T015255Z
LAST-MODIFIED:20240826T015707Z
UID:3581-1741737600-1742083199@nourishinglife.com
SUMMARY:Vrindavan Bhakti Yatra 2025
DESCRIPTION:Vrindavan Bhakti YatraFollowing in the Footsteps of Ram Dass			\n				Join us in the land of love and city of temples where the lila of Radha and Krishna still takes place to this day. You can feel the spiritual enthusiasm\, the bhakti\, and the bhav immediately as you arrive into town. We will spend 4 days together in a lovely ashram\, double room occupancy\, in both sadhana and satsang as we explore all there is to see in this special pre-yatra excursion. Vrindavan is one of the great cities in India. Please join! \nThe Vrindavan excursion is an all-inclusive 5-day yatra experience including transportation within India\, food\, chai\, room\, entrance fees\, and all tips and donations. \n\nExperience darshan of Maharaji’s Vrindavan ashram.\nMeditate at the very site of HIS holy Mahasamadhi.\nShare chanting\, yoga\, meditation with satsang.\nRelax & chant in a Yamuna River boat ride.\nDaily temple walks to find your bliss\nPerikrama the holy city\, & bhakti shopping!\nDay trip to Barsana\, Cow Sanctuary\, Radha Kund\n\nMarch 12 -15\, 2025 \n\n\n			\n							Learn More & Register HERE
URL:https://nourishinglife.com/event/vrindavan-bhakti-yatra-2025/
LOCATION:Vrindavan\, Vrindavan\, India
CATEGORIES:Retreat,Yoga Yatra
ATTACH;FMTTYPE=image/png:https://nourishinglife.com/wp-content/uploads/2021/06/Vrindavan-logo-transparent.png
ORGANIZER;CN="Saraswati Robin":MAILTO:info@nourishinglife.com
END:VEVENT
END:VCALENDAR